BEGIN:VCALENDAR
VERSION:2.0
PRODID:-//EMU Wellness - ECPv4.9.10//NONSGML v1.0//EN
CALSCALE:GREGORIAN
METHOD:PUBLISH
X-WR-CALNAME:EMU Wellness
X-ORIGINAL-URL:https://emuwellness.com
X-WR-CALDESC:Events for EMU Wellness
BEGIN:VTIMEZONE
TZID:Australia/Sydney
BEGIN:STANDARD
TZOFFSETFROM:+1100
TZOFFSETTO:+1000
TZNAME:AEST
DTSTART:20190406T160000
END:STANDARD
BEGIN:DAYLIGHT
TZOFFSETFROM:+1000
TZOFFSETTO:+1100
TZNAME:AEDT
DTSTART:20191005T160000
END:DAYLIGHT
END:VTIMEZONE
BEGIN:VEVENT
DTSTART;TZID=Australia/Sydney:20191130T080000
DTEND;TZID=Australia/Sydney:20191130T130000
DTSTAMP:20260422T142544
CREATED:20190917T235210Z
LAST-MODIFIED:20191125T003728Z
UID:6502-1575100800-1575118800@emuwellness.com
SUMMARY:EMU Wellness at Richmond Good Food Market 30/11/19
DESCRIPTION:Visit our EMU Wellness stand at Richmond Good Food Markets (8am – 1pm) \n\nAsk Mel your gut health and fermenting questions\nPick-up a free Recipe Sheet\nBook in for workshops\nTry on the Blue Light Blocker Glasses\nBrowse selected range of quality wellness stock from our SHOP\n\n  \nOrder ahead for pick-up at this location: \n\nKvass Liver Tonic\nPrimal Alternative Grain-free Breads\, Wraps\, Pizza Bases\, Cookies. \nKultured Wellness Coconut Yoghurt and Kefir Starters\nAYAM Coconut Cream Cartons\n\nAnything from our SHOP range\n\n  \n** BONUS GIFT ** \nPre-orders $100 or more will receive a 500g packet of Natural Magnesium Bath Flakes \n  \n
URL:https://emuwellness.com/calendar/richmond-good-food-market/
LOCATION:Richmond Good Food Market\, 117 March Street\, Richmond\, NSW\, 2753\, Australia
CATEGORIES:Markets,Orders,Richmond
ATTACH;FMTTYPE=image/png:https://emuwellness.com/wp-content/uploads/2019/09/Calendar-Event-Images-4.png
END:VEVENT
END:VCALENDAR