BEGIN:VCALENDAR
VERSION:2.0
PRODID:-//EMU Wellness - ECPv4.9.10//NONSGML v1.0//EN
CALSCALE:GREGORIAN
METHOD:PUBLISH
X-WR-CALNAME:EMU Wellness
X-ORIGINAL-URL:https://emuwellness.com
X-WR-CALDESC:Events for EMU Wellness
BEGIN:VTIMEZONE
TZID:Australia/Sydney
BEGIN:STANDARD
TZOFFSETFROM:+1100
TZOFFSETTO:+1000
TZNAME:AEST
DTSTART:20210403T160000
END:STANDARD
BEGIN:DAYLIGHT
TZOFFSETFROM:+1000
TZOFFSETTO:+1100
TZNAME:AEDT
DTSTART:20211002T160000
END:DAYLIGHT
END:VTIMEZONE
BEGIN:VEVENT
DTSTART;TZID=Australia/Sydney:20210615T190000
DTEND;TZID=Australia/Sydney:20210615T190000
DTSTAMP:20260419T164836
CREATED:20190410T093641Z
LAST-MODIFIED:20210606T235251Z
UID:5119-1623783600-1623783600@emuwellness.com
SUMMARY:Primal Alternative Orders Close 7pm Tues 15/6/2021
DESCRIPTION:EMU Wellness helps make it easier to purchase your Primal Alternative grain-free products.  All made with nutrient dense whole-foods without any yeasts\, gums or preservatives. Convenience without compromising!\n  \nORDERS DUE 7pm Tuesday 15th June 2021\, with the following collection and deliveries options.\n\n  \n?EMU PLAINS Pick-ups:\nSunday 20th June 2021\, Monday 21st June  \n  \n? FREE DELIVERY for orders over $40 HILLS AREA TO PENRITH on Sunday 20th June Can be combined with anything else on our website shop. Message us if you are not sure if your suburb is included\, we will do our best. \n  \n? FREE DELIVERY for orders over $40 EMU PLAINS to SPRINGWOOD on Sunday 20th June. Can be combined with anything else on our website shop. Message us if you are not sure if your suburb is included\, we will do our best. \n  \n? FREE DELIVERY for orders over $40 EMU PLAINS to RICHMOND AREA on Monday 21st June. Can be combined with anything else on our website shop. Message us if you are not sure if your suburb is included\, we will do our best. \n  \n$10 delivery fee for orders under $40. \n  \nPayment Options – Card/PayPal on our website\, bank transfer or cash. \n\nTO ORDER >> Purchase ‘TICKETS’ for the products of your choice. \nFirst write the NUMBER of the selected product you want\, then click ‘Add to Cart’ \nIMPORTANT >> Write in the purchase notes (on the final checkout page) which date/location you will be picking up from. \n  \nAlternatively\, simply contact us to place your order by email or phone. \n\nMake your Primal Alternative order from the following:\n  \nNo Nut Hemp granola \nAn all-natural\, nutrient rich\, low carb breakfast choice or healthy snack. Delicious crunchy clusters of lightly baked seeds and coconut mixed with spices and hemp butter. Each serve provides a balance of good fats\, protein\, antioxidants\, fibre\, essential fatty acids and omega 3s to nourish you. Locally handmade from premium ingredients.\nLOW CARB\, VEGAN\, LOW FODMAP\, PALEO GRAIN & WHEAT FREE LOCALLY MADE\n\n\n\nFat & Seedy granola\n\nAn all-natural\, nutrient rich\, low carb breakfast choice or healthy snack. Delicious bites of lightly baked macadamias\, seeds and coconut. Each serve provides a balance of good fats\, protein\, antioxidants\, fibre and minerals to nourish you. Locally handmade from premium ingredients. (Please note it contains peanut butter)\nLOW CARB VEGAN LOW FODMAP PALEO GRAIN & WHEAT FREE LOCALLY MADE\n\n\n  \nBagels $12.40 (pack of 4) \n“Our bagels feel like the real deal. They are dense but baked and made from low carb\, real food ingredients including zucchini\, nuts\, seeds and free range eggs. Best sliced and toasted with your favourite bagel toppings. Cream cheese and deli meats are traditional bagel toppings but you can create whatever you desire to suit your eating style\, without missing out.” \n  \nNo-nut Hemp Wraps $14.40 (pack of 4 wraps) \nPrimal Alternative to a wrap! Hand crafted with love and made without nuts\, eggs\, dairy and grains. These are the perfect vehicle for your favourite sandwich/wrap fillings\, burritos\, fajitas\, quesadillas\, naan bread\, nachos or pizza base. \nIngredients: water\, tapioca flour\, organic hemp seeds (8%) Australian extra virgin olive oil\, organic coconut flour\, linseed\, sea salt\, grain free baking powder. \nLOCALLY MADE\, PALEO FRIENDLY\, VEGAN & VEGETARIAN FRIENDLY\, LUNCH BOX FRIENDLY \nTo make the Wraps bendy again – just warm gently in a dry frying pan or oven at moderate heat. \nKeep refrigerated or freeze for up to 3 months. \n  \nNo-nut Hemp Bread $16.50 \nNo Nut Hemp Bread is a health conscious and lunch box friendly bread. \nCrafted entirely from whole food ingredients including hemp seeds\, free range eggs\, herbs and olive oil and naturally low in carbohydrates. \nKETO FRIENDLY\, PALEO FRIENDLY\, VEGETARIAN \nIngredients: zucchini\, free range eggs\, olive oil\, sunflower seeds\, hemp seeds\, coconut flour\, psyllium husk\, garlic\, rosemary\, grain free baking powder\, sea salt. \nKeep refrigerated. Can be sliced and frozen for up to three months. If freezing\, best toasted from frozen. \n  \nFat and Seedy Bread $16.50 \nWith only 1g of carbohydrate per slice\, crafted entirely with wholefood\, nutrient-dense ingredients – it looks like bread is back on the menu! This could be the Primal Alternative to make your keto or low carb journey more doable and sustainable. This ‘bread’ is high in fat\, with moderate protein and is grain\, dairy\, sugar and preservative free! \nLOW CARB\, KETO FRIENDLY\, GRAIN FREE\, DAIRY FREE\, SUGAR FREE \nIngredients: Almond meal\, zucchini\, free range eggs\, pumpkin seeds\, sunflower kernels\, linseeds\, sesame seeds\, poppy seeds\, sea salt. \nKeeps 2 weeks in fridge\, 3 months in freezer. \n  \nTurmeric & Hemp Bread $16.50 \nA delicious savoury alternative to wheat bread\, crafted from whole food ingredients including turmeric and hemp seed.  Delicious toasted and topped with smashed avocado\, your favourite cheese or butter. Made without grains\, dairy\, legumes or sugar. \nThis loaf has a crunchy crust\, biceps are required for slicing.  Best sliced and frozen for up to three months. \nVEGAN FRIENDLY\, LOCALLY MADE\, PALEO FRIENDLY\, VEGETARIAN. \nIngredients: Water\, tapioca flour\, almond meal\, linseeds\, sunflower kernels\, walnuts\, hemp seeds\, cashew nuts\, coconut oil\, lemon juice\, chia seeds\, turmeric\, garlic\, thyme\, grain-free baking powder\, sea salt\, black pepper. \n  \nFruit Toast (with Inca Berries) $16.50 \nA nourishing savoury fruit toast with cinnamon and ginger spices. Try toasted with butter and honey. The good fats in this versatile bread will keep you full for longer. Freezes for up to three months\, slice first and pop straight into the toaster. \nNO GRAIN\, NO DAIRY\, NO ADDED SUGAR. \nSuitable for vegetarians and vegans. \nIngredients: Water\, tapioca flour\, almond meal\, sultanas\, linseeds\, sunflower kernels\, goji or Inca berries\, walnuts\, cashew nuts\, organic coconut oil\, lemon juice\, chia seeds\, spices\, grain free baking\, powder\, sea salt. \nKeeps 2 weeks in fridge\, 3 months in freezer \n  \nFat and Seedy Pizza Bases $14.40 (pack of 2) \nAll the fun of pizza with only 4g carb per entire base! Yep\, per base! Made from nuts seeds\, eggs & coconut oil. High in good fats\, moderate protein and super low carb! Get a takeaway vibe and keep that clean\, clear\, low carb feeling. \nFat and Seedy Bases Ingredients: Almond meal\, sunflower kernelsfree range eggs\, organic coconut oil\, activated cashew milk\, sea salt\, grain free\, baking powder. \nLOW CARB\, KETO FRIENDLY\, GRAIN FREE\, DAIRY FREE\, SUGAR FREE \nKeeps 10 days in fridge\, 3 months in freezer \n  \nPizza Bases $14.40 (pack of 2) \nThese grain free\, thin crust pizza bases mean pizza night is back on the menu! This isn’t any old pizza \nbase – it is nuts\, eggs & coconut oil in disguise! Pre-baked for super convenience\, just add your favourite toppings and bake. Store in a sealed container in the fridge and use before best before date or freeze for up to three months. \nIngredients: Almond meal\, tapioca flour\, free range eggs\, organic coconut oil\, activated cashew milk\, sea salt\, grain free baking powder. \nGRAIN FREE\, DAIRY FREE\, SUGAR FREE. \n  \nGrain Free Pastry $18.40 (Pack of 2 x 250g sheets) \nJo Whitton and Fouad Kassab from Quirky Cooking came up with this dough/pastry as they wanted a delicious grain-free dough made with real food. The result was so spectacular it became known as Life Changing Dough. It is incredibly versatile and can be used for sausage rolls\, pie pastry\, naan\, bread rolls and more. Store frozen for up to three months. \nGRAIN FREE\, DAIRY FREE\, EGG FREE. Suitable for vegetarians. \nIngredients: Almond meal\, potato\, tapioca flour\, chia seeds\, potato starch\, olive oil\, maple syrup\, sea salt. \nStore frozen for up to three months. \n  \nGrain Free Sweet Potato Pastry $18.40 (Pack of 2 x 250g sheets) \nJo Whitton and Fouad Kassab from Quirky Cooking came up with this dough/pastry as they wanted a delicious grain-free dough made with real food. The result was so spectacular it became known as Life Changing Dough. It is incredibly versatile and can be used for sausage rolls\, pie pastry\, naan\, bread rolls and more. Store frozen for up to three months. \nGRAIN FREE\, DAIRY FREE\, EGG FREE. Suitable for vegetarians. \nIngredients: Almond meal\, sweet potato\, tapioca flour\, chia seeds\, potato starch\, olive oil\, maple syrup\, sea salt. \nStore frozen for up to three months. \n  \nGrain-free Cookies $10.40 (pack of 6) \nWith less than a teaspoon of organic coconut sugar per cookie\, rich in good fats and 70% cocoa real chocolate chips – if you’re going to have a biscuit on your grain free journey\, why not make it this one? \nGRAIN FREE. \nIngredients: organic butter\, tapioca flour\, almond meal\, coconut\, organic coconut sugar\, organic 70% \ncacao chocolate chips\, grain free baking powder\, vanilla essence\, sea salt. \nShelf life: 2 weeks \n  \nMacadamia & Currant Shortbread $12.40 (pack of 6) \nQuirky Cooking Macadamia & Currant Shortbread. This is a beautiful shortbread biscuit created from whole food ingredients including organic butter\, macadamia nuts and almond meal with a delicate hint of rosewater. Perfect for your afternoon tea. Created without grains\, legumes or vegetable oils. \nPRIMAL & VEGETARIAN FRIENDLY \n  \n**NEW** Low Carb Wrap mix $13.80 \nSoft\, bendy and versatile with less than 5g carbs per wrap. Made entirely from wholefoods. NO emulsifiers\, yeast\, eggs\, grain\, wheat or dairy. Quick and easy to make\, your search for the perfect low carb wrap is over. \nPALEO | VEGAN | LOW CARB | KETO | NUT FREE \nIngredients: coconut flour\, psyllium husk\, linseed\, salt\, baking soda \n(Just add warm water and olive oil to make at home) \n  \nLow Carb Pancake & Waffle mix $13.80 \nLight\, fluffy and perfect for a special\, fun breakfast. Delicious enough that nobody will guess that they are grain free\, sugar free\, dairy free and low carb! A staple in our household\, we like ours with a little bit of yoghurt\, seasonal fruit and a drizzle of 100% maple syrup. \nPALEO\, LOW CARB & VEGETARIAN \nIngredients: Almond meal\, tapioca starch\, bicarb soda\, salt. \n(mix in your own wet ingredients to make at home) \n  \nBread Packet Mixes $13.80 \nEach packet makes one loaf. Mix the packet with the required “wet” ingredients\, bake\, and enjoy! \nChoose from: \n\nNo-nut Hemp Bread\nFat and Seedy Bread\nFruit Toast with Goji or Inca Berry\nTurmeric Bread\nPumpkin Bread\nZucchini Bread\n\n  \nPizza Base Packet Mix $10.20 \nEach pack makes two pizza bases. Mix the packet with the required “wet” ingredients\, bake\, and enjoy! \nChoose from: \n\nPizza Base Packet Mix\nFat and Seedy Pizza Base Packet Mix\n\n  \nEMU Wellness Top Deck Chocolate Gummies $5 (75g bag) \nEnjoy the benefits of gut healing gelatin in a low carb healthy chocolate snack. \nGRAIN FREE\, DAIRY FREE\, EGG FREE\, LOW CARB \nIngredients: 100% Coconut Cream\, Organic Gelatin\, water\, cacao powder\, maple syrup\, organic Ceylon Cinnamon powder  \nStore in fridge\, eat within 5 days. Can be frozen. \n  \nTO ORDER >> PURCHASE ‘TICKETS’ for the products of your choice. \nFirst write the NUMBER of the selected product you want\, then click ‘Add to Cart’ \n  \nNot ready to order yet? Contact Us to request a reminder a couple of days prior to orders closing. \nCAN’T WAIT??  Order on  for your order to be shipped to you. \n
URL:https://emuwellness.com/calendar/primal-alternative-stockist/
LOCATION:EMU Wellness\, Emu Plains\, 313 Great Western Highway\, Emu Plains\, NSW\, 2750\, Australia
CATEGORIES:Hills,Orders,Penrith,Richmond
ATTACH;FMTTYPE=image/png:https://emuwellness.com/wp-content/uploads/2021/02/Primal-Alternative-Grain-free-9.png
ORGANIZER;CN="EMU%20Wellness":MAILTO:melinda@emuwellness.com
END:VEVENT
END:VCALENDAR