BEGIN:VCALENDAR
VERSION:2.0
PRODID:-//EMU Wellness - ECPv4.9.10//NONSGML v1.0//EN
CALSCALE:GREGORIAN
METHOD:PUBLISH
X-WR-CALNAME:EMU Wellness
X-ORIGINAL-URL:https://emuwellness.com
X-WR-CALDESC:Events for EMU Wellness
BEGIN:VTIMEZONE
TZID:Australia/Sydney
BEGIN:STANDARD
TZOFFSETFROM:+1100
TZOFFSETTO:+1000
TZNAME:AEST
DTSTART:20180331T160000
END:STANDARD
BEGIN:DAYLIGHT
TZOFFSETFROM:+1000
TZOFFSETTO:+1100
TZNAME:AEDT
DTSTART:20181006T160000
END:DAYLIGHT
END:VTIMEZONE
BEGIN:VEVENT
DTSTART;TZID=Australia/Sydney:20181222T150000
DTEND;TZID=Australia/Sydney:20181222T170000
DTSTAMP:20260420T234441
CREATED:20181121T092047Z
LAST-MODIFIED:20181121T092047Z
UID:4128-1545490800-1545498000@emuwellness.com
SUMMARY:Primal Alternative Order Emu Plains Pick-ups 3pm - 5pm
DESCRIPTION:Collect your Primal Alternative Orders from us at Emu Plains today 3pm – 5pm. \n
URL:https://emuwellness.com/calendar/primal-alternative-order-pick-ups-8am-8pm-2/
LOCATION:Emu Plains\, Emu Plains\, NSW\, 2750\, Australia
CATEGORIES:Orders
ATTACH;FMTTYPE=image/jpeg:https://emuwellness.com/wp-content/uploads/2018/11/Primal-Alternative-Order-Pick-up-Emu-Plains-NSW.jpg
ORGANIZER;CN="EMU%20Wellness":MAILTO:melinda@emuwellness.com
END:VEVENT
END:VCALENDAR