BEGIN:VCALENDAR
VERSION:2.0
PRODID:-//EMU Wellness - ECPv4.9.10//NONSGML v1.0//EN
CALSCALE:GREGORIAN
METHOD:PUBLISH
X-WR-CALNAME:EMU Wellness
X-ORIGINAL-URL:https://emuwellness.com
X-WR-CALDESC:Events for EMU Wellness
BEGIN:VTIMEZONE
TZID:Australia/Sydney
BEGIN:STANDARD
TZOFFSETFROM:+1100
TZOFFSETTO:+1000
TZNAME:AEST
DTSTART:20180331T160000
END:STANDARD
BEGIN:DAYLIGHT
TZOFFSETFROM:+1000
TZOFFSETTO:+1100
TZNAME:AEDT
DTSTART:20181006T160000
END:DAYLIGHT
END:VTIMEZONE
BEGIN:VEVENT
DTSTART;TZID=Australia/Sydney:20181201T080000
DTEND;TZID=Australia/Sydney:20181201T170000
DTSTAMP:20260420T200805
CREATED:20181114T091808Z
LAST-MODIFIED:20181128T005124Z
UID:3855-1543651200-1543683600@emuwellness.com
SUMMARY:Primal Alternative Orders Close 5pm 1/12/18
DESCRIPTION:EMU Wellness is excited to be able to help make it easier to purchase your Primal Alternative grain-free products.  All made with nutrient dense whole-foods without any preservatives.\n  \nORDER DUE by 5pm Saturday 1st December for collection at the following locations:\n\nWednesday 5th December 7pm – 9pm (if you are attending our EMU Wellness Kombucha Christmas Party in Penrith)\nThursday 6th December 8am – 8pm\, Emu Plains\nFriday 7th December\, Emu Plains (Flexible times\, by arrangement)\n\nTO ORDER >> CONTACT US\n\nMake your Primal Alternative order from the following:\nFruit Toast (with Inca Berries) $15.95 \nA nourishing savoury fruit toast with cinnamon and ginger spices. Try toasted with butter and honey. The good fats in this versatile bread will keep you full for longer. Freezes for up to three months\, slice first and pop straight into the toaster. \nGRAIN FREE\, DAIRY FREE\, NO ADDED SUGAR. \nSuitable for vegetarians and vegans. \nIngredients: Water\, tapioca flour\, almond meal\, sultanas\, linseeds\, sunflower kernels\, Inca berries\, walnuts\, cashew nuts\, organic coconut oil\, lemon juice\, chia seeds\, spices\, grain free baking\, powder\, sea salt. \nKeeps 2 weeks in fridge\, 3 months in freezer \n  \nFat and Seedy Bread $15.95 \nWith only 1g of carbohydrate per slice\, crafted entirely with wholefood\, nutrient-dense ingredients – it looks like bread is back on the \nmenu! This could be the Primal Alternative to make your keto or low carb journey more doable and sustainable. This ‘bread’ is high in fat\, with moderate protein and is grain\, dairy\, sugar and preservative free! \nLOW CARB\, KETO FRIENDLY\, GRAIN FREE\, DAIRY FREE\, SUGAR FREE \nIngredients: Almond meal\, zucchini\, free range eggs\, pumpkin seeds\, sunflower kernels\, linseeds\, sesame seeds\, poppy seeds\, sea salt. \nKeeps 2 weeks in fridge\, 3 months in freezer. \n  \nFat and Seedy Pizza Bases $14 (pack of 2) \nAll the fun of pizza with only 4g carb per entire base! Yep\, per base! Made from nuts seeds\, eggs & coconut oil. High in good fats\, moderate protein and super low carb! Get a takeaway vibe and keep that clean\, clear\, low carb feeling. \nFat and Seedy Bases Ingredients: Almond meal\, sunflower kernelsfree range eggs\, organic coconut oil\, activated cashew milk\, sea salt\, grain free\, baking powder. \nLOW CARB\, KETO FRIENDLY\, GRAIN FREE\, DAIRY FREE\, SUGAR FREE \nKeeps 10 days in fridge\, 3 months in freezer \n  \nPizza Bases $14 (pack of 2) \nThese grain free\, thin crust pizza bases mean pizza night is back on the menu! This isn’t any old pizza \nbase – it is nuts\, eggs & coconut oil in disguise! Pre-baked for super convenience\, just add your favourite toppings and bake. Store in a sealed container in the fridge and use before best before date or freeze for up to three months. \nIngredients: Almond meal\, tapioca flour\, free range eggs\, organic coconut oil\, activated cashew milk\, sea salt\, grain free baking powder. \nGRAIN FREE\, DAIRY FREE\, SUGAR FREE. \n  \nGrain-free Cookies $8.40 (pack of 6) \nWith less than a teaspoon of organic coconut sugar per cookie\, rich in good fats and 70% cocoa real chocolate chips – if you’re going to have a biscuit on your grain free journey\, why not make it this one? \nGRAIN FREE. \nIngredients: organic butter\, tapioca flour\, almond meal\, coconut\, organic coconut sugar\, organic 70% \ncacao chocolate chips\, grain free baking powder\, vanilla essence\, sea salt. \nShelf life: 2 weeks \n  \nGrain Free Pastry $17.20 (Pack of 2 x 250g sheets) \nJo Whitton and Fouad Kassab from Quirky Cooking came up with this dough/pastry as they wanted a delicious grain-free dough made with real food. The result was so spectacular it became known as Life Changing Dough. It is incredibly versatile and can be used for sausage rolls\, pie pastry\, naan\, bread rolls and more. Store frozen for up to three months. \nGRAIN FREE\, DAIRY FREE\, EGG FREE. Suitable for vegetarians. \nIngredients: Almond meal\, potato\, tapioca flour\, chia seeds\, potato starch\, olive oil\, maple syrup\, sea salt. \nStore frozen for up to three months. \n  \nGrain Free Sweet Potato Pastry $17.20 (Pack of 2 x 250g sheets) \nJo Whitton and Fouad Kassab from Quirky Cooking came up with this dough/pastry as they wanted a delicious grain-free dough made with real food. The result was so spectacular it became known as Life Changing Dough. It is incredibly versatile and can be used for sausage rolls\, pie pastry\, naan\, bread rolls and more. Store frozen for up to three months. \nGRAIN FREE\, DAIRY FREE\, EGG FREE. Suitable for vegetarians. \nIngredients: Almond meal\, sweet potato\, tapioca flour\, chia seeds\, potato starch\, olive oil\, maple syrup\, sea salt. \nStore frozen for up to three months. \n  \nPrimal Alternative Fruit Mince Pies $5.60 each (or pack of 4 for $20)  \n‘Tis the season to enjoy one of these delicious Fruit Mince Pies with friends and family.  Created without grains\, legumes or vegetable oils.  PALEO FRIENDLY. Each pie is 70gm. \nIngredients: almond meal\, mixed dried fruit\, free range eggs\, apple\, orange juice and zest\, currants\, apricots\, cranberries\, coconut oil\, vanilla extract\, mixed spice\, nutmeg\, cinnamon.  53% min fruit. \n  \nBread Packet Mixes $13.30 \nEach packet makes one loaf. Mix the packet with the required “wet” ingredients\, bake\, and enjoy! \nChoose from: \n\nFat and Seedy Bread Mix\nFruit Toast with Goji or Inca Berry\nPumpkin Bread Mix\nZucchini Bread Mix\n\n  \nPizza Base Packet Mix $9.80 \nEach pack makes two pizza bases. Mix the packet with the required “wet” ingredients\, bake\, and enjoy! \nChoose from: \n\nPizza Base Packet Mix\nFat and Seedy Pizza Base Packet Mix\n\n  \nPrimal Alternative orders can also be delivered to most Western Sydney and Sydney suburbs for $10. \nTO ORDER >> CONTACT US\n
URL:https://emuwellness.com/calendar/orders-close-5pm-today/
LOCATION:Sydney\, NSW\, 2000\, Australia
CATEGORIES:Orders
ATTACH;FMTTYPE=image/jpeg:https://emuwellness.com/wp-content/uploads/2018/11/Primal-Alternative-Orders-Close.jpg
ORGANIZER;CN="EMU%20Wellness":MAILTO:melinda@emuwellness.com
END:VEVENT
END:VCALENDAR