BEGIN:VCALENDAR
VERSION:2.0
PRODID:-//EMU Wellness - ECPv4.9.10//NONSGML v1.0//EN
CALSCALE:GREGORIAN
METHOD:PUBLISH
X-WR-CALNAME:EMU Wellness
X-ORIGINAL-URL:https://emuwellness.com
X-WR-CALDESC:Events for EMU Wellness
BEGIN:VTIMEZONE
TZID:Australia/Sydney
BEGIN:STANDARD
TZOFFSETFROM:+1100
TZOFFSETTO:+1000
TZNAME:AEST
DTSTART:20190406T160000
END:STANDARD
BEGIN:DAYLIGHT
TZOFFSETFROM:+1000
TZOFFSETTO:+1100
TZNAME:AEDT
DTSTART:20191005T160000
END:DAYLIGHT
END:VTIMEZONE
BEGIN:VEVENT
DTSTART;TZID=Australia/Sydney:20190327T180000
DTEND;TZID=Australia/Sydney:20190327T180000
DTSTAMP:20260420T122204
CREATED:20190311T002237Z
LAST-MODIFIED:20190327T055503Z
UID:4835-1553709600-1553709600@emuwellness.com
SUMMARY:Primal Alternative Orders Close 6pm 27/3/19 * EASTER *
DESCRIPTION:EMU Wellness is excited to be able to help make it easier to purchase your Primal Alternative grain-free products.  All made with nutrient dense whole-foods without any yeasts\, gums or preservatives. Convenience without compromising!\nEaster fruit toast and Hot Cross Bun are available for this order – get some extra for the freezer!  \n  \nPRIMAL ALTERNATIVE ORDERS DUE by 6pm Wednesday 27th March for collection at the following locations:\n\nFriday 29th March 2019 12noon – 1pm at Kellyville\nFriday 29th March 2019 1pm – 3pm – Complimentary Penrith Area deliveries for total shop orders over $50\, will consider suburbs between Kellyville and Emu Plains.\nFriday 29th March 2019 3pm – 6pm at Emu Plains\nSaturday 30th March 2019 9am – 10am at Richmond  (Meet Mel at Richmond markets during this hour to collect your order)\nSaturday 30th March 2019 Collect from Emu Plains\nSaturday 30th March 2019 if you are attending the Bring Back the Fat event at University of New South Wales\nSunday 31st March\, Collect from Emu Plains in the morning or at our Healing the Gut Workshop in Penrith in the afternoon.\nMonday 1st April Collect from Emu Plains\n\nNot Local? Primal Alternative orders can also be delivered to most Western Sydney and Sydney suburbs for $10. \n\nTO ORDER >> CONTACT US\n\nMake your Primal Alternative order from the following:\n\nTurmeric Bread $15.95 \nA delicious savoury alternative to wheat bread\, crafted from whole food ingredients including turmeric and hemp seed.  Delicious toasted and topped with smashed avocado\, your favourite cheese or butter. Made without grains\, dairy\, legumes or sugar. \nThis loaf has a crunchy crust\, biceps are required for slicing.  Best sliced and frozen for up to three months. \nVEGAN FRIENDLY\, LOCALLY MADE\, PALEO FRIENDLY\, VEGETARIAN. \nIngredients: Water\, tapioca flour\, almond meal\, linseeds\, sunflower kernels\, walnuts\, hemp seeds\, cashew nuts\, coconut oil\, lemon juice\, chia seeds\, garlic\, thyme\, grain-free baking powder\, sea salt\, black pepper. \n  \n  \nFat and Seedy Bread $15.95 \nWith only 1g of carbohydrate per slice\, crafted entirely with wholefood\, nutrient-dense ingredients – it looks like bread is back on the \nmenu! This could be the Primal Alternative to make your keto or low carb journey more doable and sustainable. This ‘bread’ is high in fat\, with moderate protein and is grain\, dairy\, sugar and preservative free! \nLOW CARB\, KETO FRIENDLY\, GRAIN FREE\, DAIRY FREE\, SUGAR FREE \nIngredients: Almond meal\, zucchini\, free range eggs\, pumpkin seeds\, sunflower kernels\, linseeds\, sesame seeds\, poppy seeds\, sea salt. \nKeeps 2 weeks in fridge\, 3 months in freezer. \n  \nFruit Toast (with Inca Berries) $15.95 \nA nourishing savoury fruit toast with cinnamon and ginger spices. Try toasted with butter and honey. The good fats in this versatile bread will keep you full for longer. Freezes for up to three months\, slice first and pop straight into the toaster. \nNO GRAIN\, NO DAIRY\, NO ADDED SUGAR. \nSuitable for vegetarians and vegans. \nIngredients: Water\, tapioca flour\, almond meal\, sultanas\, linseeds\, sunflower kernels\, goji or Inca berries\, walnuts\, cashew nuts\, organic coconut oil\, lemon juice\, chia seeds\, spices\, grain free baking\, powder\, sea salt. \nKeeps 2 weeks in fridge\, 3 months in freezer \n  \nLIMITED TIME – EASTER Fruit Toast $15.95 \nEnjoy all the joys that Easter has to bring with our grain\, dairy and refined sugar-free Easter Fruit Toast with 70% cocoa real chocolate chips. Delicious as is or slathered in grass-fed butter. Made without grains\, dairy\, legumes or sugar. \nVEGAN FRIENDLY\, LOCALLY MADE\, PALEO FRIENDLY \nSuitable for vegetarians and vegans. \nIngredients: Water\, tapioca flour\, almond meal\, sultanas\, 70% cocoa real organic chocolate chips (organic cocoa mass\, organic cane sugar\, organic cocoa butter & organic cocoa powder)\, linseeds\, sunflower kernels\, walnuts\, cashew nuts\, coconut oil\, lemon juice\, chia seeds\, spices\, grain free baking powder\, sea salt\, 10% min fruit. \nKeeps 2 weeks in fridge\, 3 months in freezer \n  \nLIMITED TIME – Hot Cross Buns $15 for pack of 4\, $20 for pack of 6. \nEnjoy all the joys that Easter has to bring with our grain\, dairy and refined sugar-free Hot Cross Buns. Eat as is\, or try lightly toasted with butter. \nDAIRY FREE\, GRAIN FREE & PALEO FRIENDLY \nIngredients: Almond meal\, tapioca flour\, free range eggs\, refined coconut oil\, maple syrup\, sultanas\, spices\, baking powder\, orange zest\, salt. \n  \nFat and Seedy Pizza Bases $14 (pack of 2) \nAll the fun of pizza with only 4g carb per entire base! Yep\, per base! Made from nuts seeds\, eggs & coconut oil. High in good fats\, moderate protein and super low carb! Get a takeaway vibe and keep that clean\, clear\, low carb feeling. \nFat and Seedy Bases Ingredients: Almond meal\, sunflower kernelsfree range eggs\, organic coconut oil\, activated cashew milk\, sea salt\, grain free\, baking powder. \nLOW CARB\, KETO FRIENDLY\, GRAIN FREE\, DAIRY FREE\, SUGAR FREE \nKeeps 10 days in fridge\, 3 months in freezer \n  \nPizza Bases $14 (pack of 2) \nThese grain free\, thin crust pizza bases mean pizza night is back on the menu! This isn’t any old pizza \nbase – it is nuts\, eggs & coconut oil in disguise! Pre-baked for super convenience\, just add your favourite toppings and bake. Store in a sealed container in the fridge and use before best before date or freeze for up to three months. \nIngredients: Almond meal\, tapioca flour\, free range eggs\, organic coconut oil\, activated cashew milk\, sea salt\, grain free baking powder. \nGRAIN FREE\, DAIRY FREE\, SUGAR FREE. \n  \nGrain-free Cookies $8.40 (pack of 6) \nWith less than a teaspoon of organic coconut sugar per cookie\, rich in good fats and 70% cocoa real chocolate chips – if you’re going to have a biscuit on your grain free journey\, why not make it this one? \nGRAIN FREE. \nIngredients: organic butter\, tapioca flour\, almond meal\, coconut\, organic coconut sugar\, organic 70% \ncacao chocolate chips\, grain free baking powder\, vanilla essence\, sea salt. \nShelf life: 2 weeks \n  \nGrain Free Pastry $17.20 (Pack of 2 x 250g sheets) \nJo Whitton and Fouad Kassab from Quirky Cooking came up with this dough/pastry as they wanted a delicious grain-free dough made with real food. The result was so spectacular it became known as Life Changing Dough. It is incredibly versatile and can be used for sausage rolls\, pie pastry\, naan\, bread rolls and more. Store frozen for up to three months. \nGRAIN FREE\, DAIRY FREE\, EGG FREE. Suitable for vegetarians. \nIngredients: Almond meal\, potato\, tapioca flour\, chia seeds\, potato starch\, olive oil\, maple syrup\, sea salt. \nStore frozen for up to three months. \n  \nGrain Free Sweet Potato Pastry $17.90 (Pack of 2 x 250g sheets) \nJo Whitton and Fouad Kassab from Quirky Cooking came up with this dough/pastry as they wanted a delicious grain-free dough made with real food. The result was so spectacular it became known as Life Changing Dough. It is incredibly versatile and can be used for sausage rolls\, pie pastry\, naan\, bread rolls and more. Store frozen for up to three months. \nGRAIN FREE\, DAIRY FREE\, EGG FREE. Suitable for vegetarians. \nIngredients: Almond meal\, sweet potato\, tapioca flour\, chia seeds\, potato starch\, olive oil\, maple syrup\, sea salt. \nStore frozen for up to three months. \n  \nBread Packet Mixes $13.30 \nEach packet makes one loaf. Mix the packet with the required “wet” ingredients\, bake\, and enjoy! \nChoose from: \n\nFat and Seedy Bread Mix\nFruit Toast with Goji or Inca Berry\nPumpkin Bread Mix\nZucchini Bread Mix\n\n  \nPizza Base Packet Mix $9.80 \nEach pack makes two pizza bases. Mix the packet with the required “wet” ingredients\, bake\, and enjoy! \nChoose from: \n\nPizza Base Packet Mix\nFat and Seedy Pizza Base Packet Mix\n\n  \nTO ORDER >> CONTACT US\nWe will then send you the total for pre-payment by PayPal/Card or Bank Transfer. \n
URL:https://emuwellness.com/calendar/orders-close-27-mar-2019/
LOCATION:EMU Wellness\, Emu Plains\, 313 Great Western Highway\, Emu Plains\, NSW\, 2750\, Australia
CATEGORIES:Orders,Penrith,Richmond
ATTACH;FMTTYPE=image/jpeg:https://emuwellness.com/wp-content/uploads/2019/03/Primal-Alternative-Penrith-Richmond-stockist-EMU-Wellness.jpg
ORGANIZER;CN="EMU%20Wellness":MAILTO:melinda@emuwellness.com
END:VEVENT
END:VCALENDAR