BEGIN:VCALENDAR
VERSION:2.0
PRODID:-//EMU Wellness - ECPv4.9.10//NONSGML v1.0//EN
CALSCALE:GREGORIAN
METHOD:PUBLISH
X-WR-CALNAME:EMU Wellness
X-ORIGINAL-URL:https://emuwellness.com
X-WR-CALDESC:Events for EMU Wellness
BEGIN:VTIMEZONE
TZID:Australia/Sydney
BEGIN:STANDARD
TZOFFSETFROM:+1100
TZOFFSETTO:+1000
TZNAME:AEST
DTSTART:20190406T160000
END:STANDARD
BEGIN:DAYLIGHT
TZOFFSETFROM:+1000
TZOFFSETTO:+1100
TZNAME:AEDT
DTSTART:20191005T160000
END:DAYLIGHT
END:VTIMEZONE
BEGIN:VEVENT
DTSTART;TZID=Australia/Sydney:20190410T180000
DTEND;TZID=Australia/Sydney:20190410T180000
DTSTAMP:20260420T110156
CREATED:20190401T015023Z
LAST-MODIFIED:20190401T020613Z
UID:5028-1554919200-1554919200@emuwellness.com
SUMMARY:Primal Alternative Orders Close 6pm 10/4/19  *HEMP BREAD*
DESCRIPTION:EMU Wellness is excited to be able to help make it easier to purchase your Primal Alternative grain-free products.  All made with nutrient dense whole-foods without any yeasts\, gums or preservatives. Convenience without compromising!\n  \nYes! We are doing a special bulk order for the new Pete Evans no-nut Hemp Bread.  Plus last chance for Limited Edition Easter products. \n  \nORDERS DUE by 6pm Wednesday 10th April 2019 for collection at the following locations:\n\nFriday 12th April 2019 12noon – 1pm at Kellyville\nFriday 12th April 2019 1pm – 3pm – Complimentary Penrith Area deliveries for total shop orders over $50\, will consider suburbs between Kellyville and Emu Plains.\nFriday 12th April 2019 3pm – 6pm at Emu Plains\nSaturday 13th April 2019 10am – 11am at Richmond  (Meet Mel at Richmond markets during this hour to collect your order)\nSaturday 13th Sunday 14th April 2019 Collect from Emu Plains\, by appointment.\n\nNot Local? Primal Alternative orders can also be delivered to most Western Sydney and Sydney suburbs for $10. \n\nTO ORDER >> Purchase ‘TICKETS’ for the products of your choice. \n\nMake your Primal Alternative order from the following:\nNo-nut Hemp Bread $15.95 \nNo Nut Hemp Bread is a collaboration between chef Pete Evans and Primal Alternative to bring you this health conscious and lunch box friendly bread. \nCrafted entirely from whole food ingredients including hemp seeds\, free range eggs\, herbs and olive oil and naturally low in carbohydrates. \nKETO FRIENDLY\, PALEO FRIENDLY\, VEGETARIAN \nIngredients: zucchini\, free range eggs\, olive oil\, sunflower seeds\, hemp seeds\, coconut flour\, psyllium husk\, garlic\, rosemary\, grain free baking powder\, sea salt. \nKeep refrigerated. Can be sliced and frozen for up to three months. If freezing\, best toasted from frozen. \n  \nFat and Seedy Bread $15.95 \nWith only 1g of carbohydrate per slice\, crafted entirely with wholefood\, nutrient-dense ingredients – it looks like bread is back on the menu! This could be the Primal Alternative to make your keto or low carb journey more doable and sustainable. This ‘bread’ is high in fat\, with moderate protein and is grain\, dairy\, sugar and preservative free! \nLOW CARB\, KETO FRIENDLY\, GRAIN FREE\, DAIRY FREE\, SUGAR FREE \nIngredients: Almond meal\, zucchini\, free range eggs\, pumpkin seeds\, sunflower kernels\, linseeds\, sesame seeds\, poppy seeds\, sea salt. \nKeeps 2 weeks in fridge\, 3 months in freezer. \n  \nHot Cross Buns $15 for pack of 4 \nEnjoy all the joys that Easter has to bring with our grain\, dairy and refined sugar-free Hot Cross Buns/muffins. Eat as is\, or try lightly toasted with butter. \nDAIRY FREE\, GRAIN FREE & PALEO FRIENDLY \nIngredients: Almond meal\, tapioca flour\, free range eggs\, refined coconut oil\, maple syrup\, sultanas\, spices\, baking powder\, orange zest\, salt. \n  \nEASTER Fruit Toast $15.95 \nEnjoy all the joys that Easter has to bring with our grain\, dairy and refined sugar-free Easter Fruit Toast with 70% cocoa real chocolate chips. Delicious as is or slathered in grass-fed butter. Made without grains\, dairy\, legumes or sugar. \nVEGAN FRIENDLY\, LOCALLY MADE\, PALEO FRIENDLY \nSuitable for vegetarians and vegans. \nIngredients: Water\, tapioca flour\, almond meal\, sultanas\, 70% cocoa real organic chocolate chips (organic cocoa mass\, organic cane sugar\, organic cocoa butter & organic cocoa powder)\, linseeds\, sunflower kernels\, walnuts\, cashew nuts\, coconut oil\, lemon juice\, chia seeds\, spices\, grain free baking powder\, sea salt\, 10% min fruit. \nKeeps 2 weeks in fridge\, 3 months in freezer \n  \nTO ORDER >> PURCHASE ‘TICKETS’ for the products of your choice. \n
URL:https://emuwellness.com/calendar/orders-close-10-april-2019/
LOCATION:EMU Wellness\, Emu Plains\, 313 Great Western Highway\, Emu Plains\, NSW\, 2750\, Australia
CATEGORIES:Orders,Penrith,Richmond
ATTACH;FMTTYPE=image/jpeg:https://emuwellness.com/wp-content/uploads/2018/11/Pete-Evans-Hemp-Primal-Alternative-Hemp-Bread-Penrith-Stockist.jpg
ORGANIZER;CN="EMU%20Wellness":MAILTO:melinda@emuwellness.com
END:VEVENT
END:VCALENDAR