BEGIN:VCALENDAR
VERSION:2.0
PRODID:-//EMU Wellness - ECPv4.9.10//NONSGML v1.0//EN
CALSCALE:GREGORIAN
METHOD:PUBLISH
X-WR-CALNAME:EMU Wellness
X-ORIGINAL-URL:https://emuwellness.com
X-WR-CALDESC:Events for EMU Wellness
BEGIN:VTIMEZONE
TZID:Australia/Sydney
BEGIN:STANDARD
TZOFFSETFROM:+1100
TZOFFSETTO:+1000
TZNAME:AEST
DTSTART:20190406T160000
END:STANDARD
BEGIN:DAYLIGHT
TZOFFSETFROM:+1000
TZOFFSETTO:+1100
TZNAME:AEDT
DTSTART:20191005T160000
END:DAYLIGHT
END:VTIMEZONE
BEGIN:VEVENT
DTSTART;TZID=Australia/Sydney:20191025T130000
DTEND;TZID=Australia/Sydney:20191025T133000
DTSTAMP:20260421T033638
CREATED:20190214T102554Z
LAST-MODIFIED:20190917T223228Z
UID:4623-1572008400-1572010200@emuwellness.com
SUMMARY:Kellyville Order Pick-ups
DESCRIPTION:\nCollect your Primal Alternative Order\nOr orders from our shop\n\n
URL:https://emuwellness.com/calendar/order-pickup-kellyville/
LOCATION:Kellyville\, Corner Harrington Avenue and Wrights Road\, Kellyville\, NSW\, 2155\, Australia
CATEGORIES:Hills,Orders
ATTACH;FMTTYPE=image/jpeg:https://emuwellness.com/wp-content/uploads/2018/12/Order-delivery-castle-hill-free-complimentary.jpg
END:VEVENT
END:VCALENDAR