BEGIN:VCALENDAR
VERSION:2.0
PRODID:-//EMU Wellness - ECPv4.9.10//NONSGML v1.0//EN
CALSCALE:GREGORIAN
METHOD:PUBLISH
X-WR-CALNAME:EMU Wellness
X-ORIGINAL-URL:https://emuwellness.com
X-WR-CALDESC:Events for EMU Wellness
BEGIN:VTIMEZONE
TZID:Australia/Sydney
BEGIN:STANDARD
TZOFFSETFROM:+1100
TZOFFSETTO:+1000
TZNAME:AEST
DTSTART:20180331T160000
END:STANDARD
BEGIN:DAYLIGHT
TZOFFSETFROM:+1000
TZOFFSETTO:+1100
TZNAME:AEDT
DTSTART:20181006T160000
END:DAYLIGHT
END:VTIMEZONE
BEGIN:VEVENT
DTSTART;TZID=Australia/Sydney:20181210T120000
DTEND;TZID=Australia/Sydney:20181210T130000
DTSTAMP:20260420T202644
CREATED:20181206T002337Z
LAST-MODIFIED:20181206T002337Z
UID:4193-1544443200-1544446800@emuwellness.com
SUMMARY:Order pick-ups Richmond NSW
DESCRIPTION:Collect your pre-orders from our website shop today. Meet Mel in Richmond 12noon-1pm. \n
URL:https://emuwellness.com/calendar/order-pick-ups-richmond-nsw/
LOCATION:Richmond\, Richmond\, NSW\, 2753\, Australia
CATEGORIES:Orders,Richmond
ATTACH;FMTTYPE=image/jpeg:https://emuwellness.com/wp-content/uploads/2018/12/order-pick-up-locations.jpg
END:VEVENT
END:VCALENDAR