BEGIN:VCALENDAR
VERSION:2.0
PRODID:-//EMU Wellness - ECPv4.9.10//NONSGML v1.0//EN
CALSCALE:GREGORIAN
METHOD:PUBLISH
X-WR-CALNAME:EMU Wellness
X-ORIGINAL-URL:https://emuwellness.com
X-WR-CALDESC:Events for EMU Wellness
BEGIN:VTIMEZONE
TZID:Australia/Sydney
BEGIN:STANDARD
TZOFFSETFROM:+1100
TZOFFSETTO:+1000
TZNAME:AEST
DTSTART:20190406T160000
END:STANDARD
BEGIN:DAYLIGHT
TZOFFSETFROM:+1000
TZOFFSETTO:+1100
TZNAME:AEDT
DTSTART:20191005T160000
END:DAYLIGHT
END:VTIMEZONE
BEGIN:VEVENT
DTSTART;TZID=Australia/Sydney:20190202T090000
DTEND;TZID=Australia/Sydney:20190202T100000
DTSTAMP:20260420T222524
CREATED:20190130T054934Z
LAST-MODIFIED:20190130T054934Z
UID:4516-1549098000-1549101600@emuwellness.com
SUMMARY:Order pick-ups Glenbrook Markets NSW 9am-10am
DESCRIPTION:Collect your pre-orders from our website shop today. Meet Mel at Glenbrook Make\, Bake and Grow Market 9am – 10am. \n
URL:https://emuwellness.com/calendar/order-pick-ups-richmond-nsw-2-2/
LOCATION:Glenbrook\, Glenbrook\, NSW\, 2773\, Australia
CATEGORIES:Orders
ATTACH;FMTTYPE=image/jpeg:https://emuwellness.com/wp-content/uploads/2018/12/order-pick-up-locations.jpg
END:VEVENT
END:VCALENDAR