BEGIN:VCALENDAR
VERSION:2.0
PRODID:-//EMU Wellness - ECPv4.9.10//NONSGML v1.0//EN
CALSCALE:GREGORIAN
METHOD:PUBLISH
X-WR-CALNAME:EMU Wellness
X-ORIGINAL-URL:https://emuwellness.com
X-WR-CALDESC:Events for EMU Wellness
BEGIN:VTIMEZONE
TZID:Australia/Sydney
BEGIN:STANDARD
TZOFFSETFROM:+1100
TZOFFSETTO:+1000
TZNAME:AEST
DTSTART:20190406T160000
END:STANDARD
BEGIN:DAYLIGHT
TZOFFSETFROM:+1000
TZOFFSETTO:+1100
TZNAME:AEDT
DTSTART:20191005T160000
END:DAYLIGHT
END:VTIMEZONE
BEGIN:VEVENT
DTSTART;TZID=Australia/Sydney:20190104T093000
DTEND;TZID=Australia/Sydney:20190104T133000
DTSTAMP:20260420T222535
CREATED:20181230T024551Z
LAST-MODIFIED:20181230T024551Z
UID:4326-1546594200-1546608600@emuwellness.com
SUMMARY:FREE delivery to Hills
DESCRIPTION:Complimentary delivery for pre-orders over $50 from our website shop. \nOrders must be received by 5pm 3rd January 2019. \nSuburbs: Kellyville\, Castle Hill\, Dural\, Glenhaven\, \nOr other suburbs on the way from Emu Plains also considered\, including Blacktown Area. \nNOTE: If you are ordering Kultured Wellness Yoghurt or Kefir starters\, you will need to be home or leave an esky/cooler bag out. \n
URL:https://emuwellness.com/calendar/order-delivery-castle-hill-nsw/
LOCATION:Hills district\, Hills\, NSW\, 2154\, Australia
CATEGORIES:Hills,Orders
ATTACH;FMTTYPE=image/jpeg:https://emuwellness.com/wp-content/uploads/2018/12/Order-delivery-castle-hill-free-complimentary.jpg
END:VEVENT
END:VCALENDAR