BEGIN:VCALENDAR
VERSION:2.0
PRODID:-//EMU Wellness - ECPv4.9.10//NONSGML v1.0//EN
CALSCALE:GREGORIAN
METHOD:PUBLISH
X-WR-CALNAME:EMU Wellness
X-ORIGINAL-URL:https://emuwellness.com
X-WR-CALDESC:Events for EMU Wellness
BEGIN:VTIMEZONE
TZID:Australia/Sydney
BEGIN:STANDARD
TZOFFSETFROM:+1100
TZOFFSETTO:+1000
TZNAME:AEST
DTSTART:20200404T160000
END:STANDARD
BEGIN:DAYLIGHT
TZOFFSETFROM:+1000
TZOFFSETTO:+1100
TZNAME:AEDT
DTSTART:20201003T160000
END:DAYLIGHT
END:VTIMEZONE
BEGIN:VEVENT
DTSTART;TZID=Australia/Sydney:20200301T130000
DTEND;TZID=Australia/Sydney:20200301T160000
DTSTAMP:20260420T191646
CREATED:20191104T090114Z
LAST-MODIFIED:20200223T001141Z
UID:6861-1583067600-1583078400@emuwellness.com
SUMMARY:Healing the Gut: Broth\, Kombucha and Fermentation 1/3/20
DESCRIPTION:If this workshop is full – you can find more dates here. \nHealing the gut: A practical introduction to broth and fermentation\n\nCome and have fun at this interactive workshop and connect with like minded people.\nUnderstand the importance of gut health for your immune system\, moods and overall health and how you can assist the healing process.\nTaste various fermented foods and drinks so you know what you and your family will like.\nLearn how to choose quality versions if you are buying it and how to source quality ingredients to make your own.\nSave money and learn how to make your own gut healing and probiotic foods and refreshing drinks at home without any fancy equipment.\nIncludes your own Kombucha SCOBY and starter liquid so you can start brewing straight away! (Please bring own jar with a lid to take it home in)\nIncludes helpful printed information\, recipes and tips so you walk out confident to start!\n\n\nLearn how to make simple and easy versions of:\n\nBone broth\nKombucha (take home own SCOBY)\nSauerkraut\nCoconut yoghurt*\nCoconut Water Kefir*\n\n*Using high potency Kultured Wellness culture starters. Kultured Wellness Yoghurt and Kefir Starters will be available to purchase and take home with you from the workshop. \n\n3 hour interactive workshop\nMaximum numbers apply. \n  \nTO BOOK: Select the NUMBER of tickets you want and then click ‘Add to cart’. \nIf you have any issues with booking your ticket\, don’t hesitate to contact us\, we are here to help. \n  \nAre tickets transferable? \nYes\, tickets are transferable but not refundable. Up until 7 days prior you may choose to transfer your ticket to another future workshop. After this time if you can no longer make the workshop you may transfer or sell your ticket to another person\, just please let us know the new contact name. \n
URL:https://emuwellness.com/calendar/healing-the-gut-broth-kombucha-and-fermentation-1-3-20/
LOCATION:Leep Training Room\, 686 High Street\, Penrith\, NSW\, 2750\, Australia
CATEGORIES:Fermenting,Gut Health,Penrith
ATTACH;FMTTYPE=image/jpeg:https://emuwellness.com/wp-content/uploads/2018/11/Healing-the-Gut-Kombucha-Workshop.jpg
GEO:150.685402;33.750172
X-APPLE-STRUCTURED-LOCATION;VALUE=URI;X-ADDRESS=Leep Training Room 686 High Street Penrith NSW 2750 Australia;X-APPLE-RADIUS=500;X-TITLE=686 High Street:geo:33.750172,150.685402
END:VEVENT
END:VCALENDAR