BEGIN:VCALENDAR
VERSION:2.0
PRODID:-//EMU Wellness - ECPv4.9.10//NONSGML v1.0//EN
CALSCALE:GREGORIAN
METHOD:PUBLISH
X-WR-CALNAME:EMU Wellness
X-ORIGINAL-URL:https://emuwellness.com
X-WR-CALDESC:Events for EMU Wellness
BEGIN:VTIMEZONE
TZID:Australia/Sydney
BEGIN:STANDARD
TZOFFSETFROM:+1100
TZOFFSETTO:+1000
TZNAME:AEST
DTSTART:20190406T160000
END:STANDARD
BEGIN:DAYLIGHT
TZOFFSETFROM:+1000
TZOFFSETTO:+1100
TZNAME:AEDT
DTSTART:20191005T160000
END:DAYLIGHT
END:VTIMEZONE
BEGIN:VEVENT
DTSTART;TZID=Australia/Sydney:20191109T090000
DTEND;TZID=Australia/Sydney:20191109T150000
DTSTAMP:20260424T091005
CREATED:20191021T092653Z
LAST-MODIFIED:20191104T065921Z
UID:6742-1573290000-1573311600@emuwellness.com
SUMMARY:EMU Wellness at Glenbrook Spring Festival 9/11/19
DESCRIPTION:Visit our EMU Wellness stand at Glenbrook Spring Festival (9am – 3pm) \n\nAsk Mel your gut health and fermenting questions\nPick-up a free Recipe Sheet\nBook in for workshops\nGo in draw to WIN a ticket!\nTry on the Blue Light Blocker Glasses\nBrowse selected range of quality wellness stock from our SHOP\n\n  \nOrder ahead for pick-up at this location: \n\nKvass Liver Tonic\nKultured Wellness Coconut Yoghurt and Kefir Starters\nAYAM Coconut Cream Cartons\n\nAnything from our SHOP range\n\n  \n** BONUS GIFT ** \nPre-orders $100 or more will receive a 500g packet of Natural Magnesium Bath Flakes \n
URL:https://emuwellness.com/calendar/glenbrook-spring-festival-2019/
LOCATION:Glenbrook\, Park Street\, Glenbrook\, NSW\, 2773\, Australia
CATEGORIES:Markets,Orders
ATTACH;FMTTYPE=image/png:https://emuwellness.com/wp-content/uploads/2019/09/Calendar-Event-Images-4.png
END:VEVENT
END:VCALENDAR