BEGIN:VCALENDAR
VERSION:2.0
PRODID:-//EMU Wellness - ECPv4.9.10//NONSGML v1.0//EN
CALSCALE:GREGORIAN
METHOD:PUBLISH
X-WR-CALNAME:EMU Wellness
X-ORIGINAL-URL:https://emuwellness.com
X-WR-CALDESC:Events for EMU Wellness
BEGIN:VTIMEZONE
TZID:Australia/Sydney
BEGIN:STANDARD
TZOFFSETFROM:+1100
TZOFFSETTO:+1000
TZNAME:AEST
DTSTART:20210403T160000
END:STANDARD
BEGIN:DAYLIGHT
TZOFFSETFROM:+1000
TZOFFSETTO:+1100
TZNAME:AEDT
DTSTART:20211002T160000
END:DAYLIGHT
END:VTIMEZONE
BEGIN:VEVENT
DTSTART;TZID=Australia/Sydney:20210620T130000
DTEND;TZID=Australia/Sydney:20210620T150000
DTSTAMP:20260420T061001
CREATED:20210503T122928Z
LAST-MODIFIED:20210606T232943Z
UID:9706-1624194000-1624201200@emuwellness.com
SUMMARY:FREE delivery to Hills Area 20/6/21
DESCRIPTION:Complimentary delivery for Orders over $40 from our website shop. Including Primal Alternative Order \n  \nSuburbs: Glenhaven\, Winston Hills\, Kellyville and surrounds. \nOr other suburbs on the way from Emu Plains also considered. \n  \nNOTE: If you are ordering Kultured Wellness Yoghurt or Kefir starters\, you will need to be home or leave an esky/cooler bag out. \n
URL:https://emuwellness.com/calendar/free-delivery-to-hills-may-2021/
LOCATION:Hills district\, Hills\, NSW\, 2154\, Australia
CATEGORIES:Hills,Orders
ATTACH;FMTTYPE=image/jpeg:https://emuwellness.com/wp-content/uploads/2018/12/Order-delivery-castle-hill-free-complimentary.jpg
END:VEVENT
END:VCALENDAR