BEGIN:VCALENDAR
VERSION:2.0
PRODID:-//EMU Wellness - ECPv4.9.10//NONSGML v1.0//EN
CALSCALE:GREGORIAN
METHOD:PUBLISH
X-WR-CALNAME:EMU Wellness
X-ORIGINAL-URL:https://emuwellness.com
X-WR-CALDESC:Events for EMU Wellness
BEGIN:VTIMEZONE
TZID:Australia/Sydney
BEGIN:STANDARD
TZOFFSETFROM:+1100
TZOFFSETTO:+1000
TZNAME:AEST
DTSTART:20190406T160000
END:STANDARD
BEGIN:DAYLIGHT
TZOFFSETFROM:+1000
TZOFFSETTO:+1100
TZNAME:AEDT
DTSTART:20191005T160000
END:DAYLIGHT
END:VTIMEZONE
BEGIN:VEVENT
DTSTART;TZID=Australia/Sydney:20190928T100000
DTEND;TZID=Australia/Sydney:20190928T120000
DTSTAMP:20260424T080240
CREATED:20190730T000257Z
LAST-MODIFIED:20191003T075553Z
UID:6056-1569664800-1569672000@emuwellness.com
SUMMARY:Fermenting Bread Workshop 28/9/19
DESCRIPTION:Fermenting Bread Workshop\nDiversity Dough – Introduction\, Tips and Variations \n  \n? Want to make your own zero sugar\, no-grain bread and pizza bases? \n? Interested in increasing fibre diversity and resistant starches for a healthier gut? \n? Already love Kultured Wellness yoghurt/kefir and want to learn in person about their new Diversity Dough starter? \n  \nJoin Melinda in the kitchen to discover the benefits and versatility of the new diversity dough starter by Kultured Wellness. \nLearn how to make zero sugar ‘breads’\, pizza bases\, crackers packed full of a diverse range of prebiotic resistant starches to help feed and nourish a healthy gut. \nWe have been experimenting for a couple of months and learning direct with Kultured Wellness. Get all our tips\, favourite ways to eat it; what are family winners and more. \n  \nIncludes: \n\nDemonstrations and taste tests of course!\nTake home handouts and recipes\nMorning out with like-minded people\nAccess to Melinda for followup questions when you are making your own at home.\n\n  \n“Diversity Dough is Gluten and Grain Free\, Vegan\, Low carb\, Nut Free\, Soy free\, Yeast free\, Casein Free\, no artificial colours or flavours\, FOS or no genetically modified or engineered ingredients\, Egg Free\, Paleo\, Diary Free\, Fructose Free\, FODMAP friendly\, Kultured Wellness Program approved.” \n  \nKultured Wellness starters will be available to purchase at the workshop. \n  \nTO BOOK: Select the NUMBER of tickets you want and then click ‘Add to cart’. \nIf you have any questions about the day or issues with booking your ticket\, don’t hesitate to contact us\, we are here to help. \n  \n** CONTACT US TO BE NOTIFIED OF FUTURE DATES ** \n  \nAre tickets transferable? \nYes\, tickets are transferable but not refundable. If you can no longer make it you may transfer or sell your ticket to another person\, just please let us know the new contact name. \nIn the case of us not reaching minimum numbers for this workshop – we will refund tickets. \n
URL:https://emuwellness.com/calendar/fermenting-bread/
LOCATION:Blaxland Community Centre\, 33 Hope Street\, Blaxland\, NSW\, 2774\, Australia
CATEGORIES:Gut Health
ATTACH;FMTTYPE=image/png:https://emuwellness.com/wp-content/uploads/2019/07/Calendar-Event-Images-2.png
ORGANIZER;CN="EMU%20Wellness":MAILTO:melinda@emuwellness.com
END:VEVENT
END:VCALENDAR