BEGIN:VCALENDAR
VERSION:2.0
PRODID:-//EMU Wellness - ECPv4.9.10//NONSGML v1.0//EN
CALSCALE:GREGORIAN
METHOD:PUBLISH
X-WR-CALNAME:EMU Wellness
X-ORIGINAL-URL:https://emuwellness.com
X-WR-CALDESC:Events for EMU Wellness
BEGIN:VTIMEZONE
TZID:Australia/Sydney
BEGIN:STANDARD
TZOFFSETFROM:+1100
TZOFFSETTO:+1000
TZNAME:AEST
DTSTART:20200404T160000
END:STANDARD
BEGIN:DAYLIGHT
TZOFFSETFROM:+1000
TZOFFSETTO:+1100
TZNAME:AEDT
DTSTART:20201003T160000
END:DAYLIGHT
END:VTIMEZONE
BEGIN:VEVENT
DTSTART;TZID=Australia/Sydney:20200411T090000
DTEND;TZID=Australia/Sydney:20200425T170000
DTSTAMP:20260420T233942
CREATED:20200309T001148Z
LAST-MODIFIED:20200330T004923Z
UID:8014-1586595600-1587834000@emuwellness.com
SUMMARY:Ferment Along With Me - EASTER GROUP (Online 11-25/4/20)
DESCRIPTION:\nOnline Learning Experience\n15 days of step by step fermenting lessons\, with live videos and chats. \nFerment Along at Home with Melinda Blundell\, Functional Nutrition Consultant from EMU Wellness. \nSave money and learn to make your own Kombucha and High Probiotic Coconut Yoghurt and Coconut Water Kefir at home. \n\n\n\nSign-up now to claim your place and get organised. Any questions reach out. \n\n\n \n\n\nIf you need any supplies we are doing complimentary deliveries \n\n\n– KELLYVILLE to PENRITH – Friday 3rd April\n\n\n– PENRITH to LOWER BLUE MOUNTAINS – Sat 4th April\n\n\n\nThis Easter – finally the time to learn and master your fermenting.\n\nOnline learning in the comfort of your own home\, watch live or re-watch replays at times that suit you.\nPractice your fermenting with the guidance of a fermenting teacher and support of a group.\nSee what the ferment really look like at all the stages and how to tell when they are ready.\nGain more confidence and ask questions as you go.\nGet time saving hacks and practical tips.\nBe inspired with flavouring and recipe ideas.\nEnjoy connecting with other like minded people.\n\n\n  \n15 Days of step by step fermenting videos and live chats.\n  \n\nWhat is covered in this training?\n\nHow to make basic green tea and black tea Kombucha\nHow to flavour your Kombucha in 2nd Ferment\nHow to make Kultured Wellness Coconut Yoghurt\nHow to Flavour your Coconut Yoghurt – Easter chocolate yoghurt plus more!\nHow to make Kultured Wellness Coconut Water Kefir\nHow to Flavour your Kefir and use as a starter culture for fermenting vegetables.\n\n\n  \nWhere and when will the training be run?\nThis online training will be hosted in a hidden and private Facebook Group. You will be sent the link to join on payment. \nGroup will be active and running from: Easter Saturday 11th April 2020 – Saturday 25th April 2020. \n\n  \nStart date is Sunday 11th April 2020 \n\n10am – Live making of basic Kombucha\n11am – Live making of Coconut Yoghurt\n\nIf these times don’t suit you\, simply watch and re-watch the videos whenever it does. \n  \nMel will also video live to the group EACH DAY to show you what the ferments are doing when she is checking them.  \n\nSee what they look like at the various stages.\nSee when Mel decides if they are ready or not\nTrouble shoot anything that comes up.\nAsk questions during live chat or watch the replays and post questions into the group.\nPost your own fermenting photos into the group for feedback.\n\n  \nMel will be making a number of new batches throughout the 15 days\, so lots of chances to join in throughout that time. Time for these will be worked out with the group. \n  \nSound like an online training experience you want to be apart of?\n  \n*SPECIAL EASTER PRICE*\nGroup Training Access $37\nGroup Training Access + Family Friendly Fermenting ebook (worth $9.95) $40 \n\n  \nQuestions:\n  \nWhere do I get a Kombucha SCOBY from? \nKombucha SCOBYs are given out at our Healing the Gut Workshops. If you haven’t attended a class but want to see this online training and are local\, you can contact us to arrange to pick-up a SCOBY (FREE FOR THIS EASTER GROUP). If you are not local there are various people on ebay selling them\, or try a local buy/swap/sell groups or ask at a health food shop. \n  \nWhere do I get a Coconut Yoghurt Starter Culture from  \nWe have these available for purchase.  No contact pick-up from us at Emu Plains or flat rate shipping Australia wide. \nEASTER SPECIAL FOR THIS GROUP ONLY – Get 20% off when you buy 2 or more Kultured Wellness Starter Cultures. \n  \n  \nWhat if I only want to learn one of the things?  \nThat’s great\, we will aim to separate the videos so if you only want to watch the e.g. Kombucha videos you can.  It is the one fee for access to the training group whether you want to make both things or not. \n   \nUnable to watch the live videos on Day 1?  \nNo worries\, simply watch and re-watch the video whenever it suits you.  We will be make a number of batches throughout our time together\, so lots of chances to join in throughout the 15 days. \n  \nHow long to I have access to the group and videos? \nThis group experience runs until Sunday evening 25th April 2020.  This gives you three Saturdays and all the days in between to join in the fermenting at some stage. After the 15 days\, posts and commenting will be turned off.  An extra week may be given for you to catch-up on any of the videos. \nSee Less \n
URL:https://emuwellness.com/calendar/ferment-along-with-me/
LOCATION:Private Facebook Group\, Online\, Australia
CATEGORIES:Fermenting,Gut Health,online training
ATTACH;FMTTYPE=image/png:https://emuwellness.com/wp-content/uploads/2020/03/Ferment-Along-with-Me-5.png
END:VEVENT
END:VCALENDAR