BEGIN:VCALENDAR
VERSION:2.0
PRODID:-//EMU Wellness - ECPv4.9.10//NONSGML v1.0//EN
CALSCALE:GREGORIAN
METHOD:PUBLISH
X-WR-CALNAME:EMU Wellness
X-ORIGINAL-URL:https://emuwellness.com
X-WR-CALDESC:Events for EMU Wellness
BEGIN:VTIMEZONE
TZID:Australia/Sydney
BEGIN:STANDARD
TZOFFSETFROM:+1100
TZOFFSETTO:+1000
TZNAME:AEST
DTSTART:20190406T160000
END:STANDARD
BEGIN:DAYLIGHT
TZOFFSETFROM:+1000
TZOFFSETTO:+1100
TZNAME:AEDT
DTSTART:20191005T160000
END:DAYLIGHT
END:VTIMEZONE
BEGIN:VEVENT
DTSTART;TZID=Australia/Sydney:20190615T130000
DTEND;TZID=Australia/Sydney:20190615T160000
DTSTAMP:20260419T121837
CREATED:20190602T093940Z
LAST-MODIFIED:20190610T104456Z
UID:5611-1560603600-1560614400@emuwellness.com
SUMMARY:EMU Wellness Pop-up shop 15/6/19 1-4pm
DESCRIPTION:\nPick up your orders\nOr drop by and see what we have.\n\n
URL:https://emuwellness.com/calendar/emu-wellness-pop-up-shop-2/
LOCATION:EMU Wellness\, Emu Plains\, 313 Great Western Highway\, Emu Plains\, NSW\, 2750\, Australia
END:VEVENT
END:VCALENDAR