BEGIN:VCALENDAR
VERSION:2.0
PRODID:-//EMU Wellness - ECPv4.9.10//NONSGML v1.0//EN
CALSCALE:GREGORIAN
METHOD:PUBLISH
X-WR-CALNAME:EMU Wellness
X-ORIGINAL-URL:https://emuwellness.com
X-WR-CALDESC:Events for EMU Wellness
BEGIN:VTIMEZONE
TZID:Australia/Sydney
BEGIN:STANDARD
TZOFFSETFROM:+1100
TZOFFSETTO:+1000
TZNAME:AEST
DTSTART:20200404T160000
END:STANDARD
BEGIN:DAYLIGHT
TZOFFSETFROM:+1000
TZOFFSETTO:+1100
TZNAME:AEDT
DTSTART:20201003T160000
END:DAYLIGHT
END:VTIMEZONE
BEGIN:VEVENT
DTSTART;TZID=Australia/Sydney:20200407T190000
DTEND;TZID=Australia/Sydney:20200407T190000
DTSTAMP:20260420T123700
CREATED:20200404T180715Z
LAST-MODIFIED:20200407T005104Z
UID:8299-1586286000-1586286000@emuwellness.com
SUMMARY:*Hot Cross Bun* Primal Alternative Orders Close 7pm 7/4/2020
DESCRIPTION:**Last chance Primal Alternative Easter Bun order.  Plus our EMU Wellness Top Deck Low Carb Chocolate Gummies and Immune boosting freezer bites** \n  \nORDERS DUE 7PM Tuesday 7th April 2020\, with the following collection and deliveries options with special considerations during this unprecedented time.\n\n\n? FREE DELIVERY for orders over $40 between Kellyville and Penrith on Thursday 9th April. Can be combined with anything else on our website shop. Message us if you are not sure if your suburb is included\, we will do our best. \n  \n? UPDATE: FREE DELIVERY for orders over $40 to Canley Heights and Minto on Thursday 9th April\, Can be combined with anything else on our website shop. Message us if you are not sure if your suburb is included\, we will do our best. \n  \n?EMU PLAINS Pick-ups:\n3pm – 6pm Thursday 9th April. Please message when you are on your way so your order can be left out for you to pick-up to maintain social distancing. \n  \n? FREE DELIVERY for orders over $40 on Saturday 10th April to Penrith/Cranebrook/Richmond/Grose Wold/St Marys/Blaxland Can be combined with anything else on our website shop. Message us if you are not sure if your suburb is included\, we will do our best. \n  \nPayment Options – Card/PayPal on our website\, bank transfer or correct cash left in an envelope. \n\nTO ORDER >> Purchase ‘TICKETS’ for the products of your choice. \nFirst write the NUMBER of the selected product you want\, then click ‘Add to Cart’ \nIMPORTANT >> Write in the purchase notes (on the final checkout page) which date/location you will be picking up from. \n  \nAlternatively\, simply contact us to place your order by email or phone. \nEMU Wellness helps make it easier to purchase your Primal Alternative grain-free products.  All made with nutrient dense whole-foods without any yeasts\, gums or preservatives. Convenience without compromising!\n  \nMake your Primal Alternative order from the following:\n  \nEaster Fruit Buns $15 (Pack of 4) \nEnjoy all the joys that Easter has to bring with our grain\, dairy and refined sugar-free Hot Cross Buns. Eat as is\, or try lightly toasted with butter. \nDAIRY FREE\, GRAIN FREE & PALEO FRIENDLY \nIngredients: Almond meal\, tapioca flour\, free range eggs\, refined coconut oil\, maple syrup\, sultanas\, spices\, baking powder\, orange zest\, salt. \n  \n  \nEMU Wellness Top Deck Chocolate Gummies $5 (75g bag) \nEnjoy the benefits of gut healing gelatin in a low carb healthy chocolate snack. \nGRAIN FREE\, DAIRY FREE\, EGG FREE\, LOW CARB \nIngredients: 100% Coconut Cream\, Organic Gelatin\, water\, cacao powder\, maple syrup\, vanilla powder\, organic Ceylon Cinnamon powder\,  \nStore in fridge\, eat within 5 days. \n  \nEMU Wellness Supreme Greens Choc Peppermint Freezer Bites $6 (75g bag of bites) \nMade with healthy fats for happy hormones\, moods and blood sugar levels. Keep these on hand in the freezer for when a craving hits or you want a portioned snack. We have also hidden extra goodness to boost your immunity this winter with quality Changing Habits all-natural food-based powders. \n\nGRAIN FREE\, DAIRY FREE\, EGG FREE\, LOW CARB \nIngredients: Macadamia Nuts\, Coconut\, Coconut Oil\, Maple Syrup\, Organic Cacao Nibs\, Organic Supreme Greens Blend\, Seaweed Salt\, Pure organic peppermint essential oil. \n\nStore in freezer for up to 3 months. Enjoy the portioned snack straight from the freezer. \n  \nEMU Wellness Vitamin C\, Probiotic Choc Orange Freezer Bites $6 (75g bag of bites) \nMade with healthy fats for happy hormones\, moods and blood sugar levels. Keep these on hand in the freezer for when a craving hits or you want a portioned snack. We have also hidden goodness to boost your immunity this winter with quality Changing Habits all-natural food-based powders. Camu Camu is high in Vitamin C. \n\nGRAIN FREE\, DAIRY FREE\, EGG FREE\, LOW CARB \nIngredients: Macadamia Nuts\, Coconut\, Coconut Oil\, Maple Syrup\, Organic Cacao Nibs\, Organic Camu Camu\, Organic Probiotics\, Orange Juice\, Orange zest\, Seaweed Salt. \n\nStore in freezer for up to 3 months. Enjoy the portioned snack straight from the freezer. \n  \nHEALTHY EASTER GIFT IDEAS: \n\nImmune Herbal Tea $14.50\nSelf Care Gift Pack $20 (Natural Magnesium Bath Salts\, Essential Oil Mist\, Eclipse Organic Paleo Bar)\nBlue Light Blocker Glasses $15\nFerment Along With Me Online Training $40\n\n  \nTO ORDER >> PURCHASE ‘TICKETS’ for the products of your choice. \nFirst write the NUMBER of the selected product you want\, then click ‘Add to Cart’ \n  \nCAN’T WAIT FOR REST OF PRIMAL ALTERNATIVE RANGE??  Order on  for your order to be shipped to you. \n
URL:https://emuwellness.com/calendar/easter-primal-alternative-orders-close-7pm-7-4-2020/
LOCATION:EMU Wellness\, Emu Plains\, 313 Great Western Highway\, Emu Plains\, NSW\, 2750\, Australia
CATEGORIES:Hills,Orders,Penrith,Richmond
ATTACH;FMTTYPE=image/jpeg:https://emuwellness.com/wp-content/uploads/2020/04/IMG_0511-e1586023564399.jpg
ORGANIZER;CN="EMU%20Wellness":MAILTO:melinda@emuwellness.com
END:VEVENT
END:VCALENDAR