BEGIN:VCALENDAR
VERSION:2.0
PRODID:-//EMU Wellness - ECPv4.9.10//NONSGML v1.0//EN
CALSCALE:GREGORIAN
METHOD:PUBLISH
X-WR-CALNAME:EMU Wellness
X-ORIGINAL-URL:https://emuwellness.com
X-WR-CALDESC:Events for EMU Wellness
BEGIN:VTIMEZONE
TZID:Australia/Sydney
BEGIN:STANDARD
TZOFFSETFROM:+1100
TZOFFSETTO:+1000
TZNAME:AEST
DTSTART:20180331T160000
END:STANDARD
BEGIN:DAYLIGHT
TZOFFSETFROM:+1000
TZOFFSETTO:+1100
TZNAME:AEDT
DTSTART:20181006T160000
END:DAYLIGHT
END:VTIMEZONE
BEGIN:VEVENT
DTSTART;TZID=Australia/Sydney:20181205T190000
DTEND;TZID=Australia/Sydney:20181205T210000
DTSTAMP:20260420T202027
CREATED:20181114T081528Z
LAST-MODIFIED:20181122T052316Z
UID:3837-1544036400-1544043600@emuwellness.com
SUMMARY:EMU Wellness Christmas Party
DESCRIPTION:Attended one of our workshops over the last few years? \nYou are invited to join in our EMU Wellness Christmas Kombucha Party to re-connect\, celebrate and learn some extra tips. \n❤️ Tips and ideas for flavouring your Kombucha in 2nd Ferment. Including demo and taste test.\n❤️ How to make Kombucha Jelly\, including demo and taste.\n❤️ Kombucha making reminders and trouble shooting\n❤️ Bring along excess SCOBYs to share with others who need one.\n❤️ Feel free to bring along other ferments learned at our workshops if you have questions about them too. We will also bring tastes of the pain and flavoured yoghurt and kefir.\n❤️ Celebrate the end of year with likeminded people.\n❤️ Lucky door prizes to be won. \nTickets $25pp \nYour ticket includes a Raw Dessert tasting plate (a selection of raw desserts that are no-gluten\, no-diary\, no-refined sugar). \nHot and cold drinks will be available for you to purchase at the café. \nPartners are also invited.\nLimited places available\, bookings essential. \nPlease note this party event is for our community who have attended one of our Fermenting Workshops or our ‘Food for Wellness Reset’ in 2016\, 2017\, 2018. You don’t need to be making Kombucha to attend. \nTO BOOK: Select the NUMBER of tickets you want and then click ‘Add to cart’. \n
URL:https://emuwellness.com/calendar/christmas-party/
LOCATION:Natural Choice Cafe\, 541 High Street\, Penrith\, NSW\, 2750\, Australia
CATEGORIES:Christmas Party,Fermenting,Gut Health,Penrith
ATTACH;FMTTYPE=image/jpeg:https://emuwellness.com/wp-content/uploads/2018/11/Christmas-Party.jpg
END:VEVENT
END:VCALENDAR