BEGIN:VCALENDAR
VERSION:2.0
PRODID:-//EMU Wellness - ECPv4.9.10//NONSGML v1.0//EN
CALSCALE:GREGORIAN
METHOD:PUBLISH
X-WR-CALNAME:EMU Wellness
X-ORIGINAL-URL:https://emuwellness.com
X-WR-CALDESC:Events for EMU Wellness
BEGIN:VTIMEZONE
TZID:Australia/Sydney
BEGIN:STANDARD
TZOFFSETFROM:+1100
TZOFFSETTO:+1000
TZNAME:AEST
DTSTART:20190406T160000
END:STANDARD
BEGIN:DAYLIGHT
TZOFFSETFROM:+1000
TZOFFSETTO:+1100
TZNAME:AEDT
DTSTART:20191005T160000
END:DAYLIGHT
END:VTIMEZONE
BEGIN:VEVENT
DTSTART;TZID=Australia/Sydney:20191210T190000
DTEND;TZID=Australia/Sydney:20191210T210000
DTSTAMP:20260422T060118
CREATED:20191107T111445Z
LAST-MODIFIED:20191208T225604Z
UID:6938-1576004400-1576011600@emuwellness.com
SUMMARY:EMU Wellness Christmas Party 10/12/2019
DESCRIPTION:Attended one of our workshops over the last few years? ✅ \nYou are invited to join in our EMU Wellness Christmas Party to re-connect\, celebrate and learn some extra tips. \nCelebrate the end of year with likeminded people. \nMini Workshop Component – Fermenting Drinks\n❤️ Basic Kombucha making reminders and trouble shooting.\n❤️ Tips and ideas for flavouring your Kombucha in 2nd Ferment.\n❤️ Flavoured Kombucha demonstrations and taste tests. \n❤️ Bring along excess SCOBYs to share with others who need one. (Bring a jar if you need one). \n❤️ Ideas and tastes for flavouring Coconut Water Kefir. \n❤️ Kvass Liver Tonic demonstation and taste tests using Kultured Wellness Kefir starter.\n❤️ Feel free to bring along other ferments learned at our workshops if you have questions about them too.  \nFood and Drinks \nYour ticket includes a Raw Dessert tasting plate from the cafe (a selection of raw desserts that are no-gluten\, no-diary\, no-refined sugar). Drinks and other food will be available to purchase on the night from the café if you choose. \nTickets $25pp \nPartners are also invited. Children 10-16years $10\nLimited places available due to space at cafe\, bookings essential. \nPlease note this party event is for our community who have attended one of our Fermenting Workshops\, Gut Health Retreat Day or our ‘Food for Wellness Reset’ in 2016\, 2017\, 2018. 2019 (Nov 2019 workshop attendees also invited). You don’t need to be making Kombucha to attend. \n
URL:https://emuwellness.com/calendar/christmas-party-2019/
LOCATION:Natural Choice Cafe\, 541 High Street\, Penrith\, NSW\, 2750\, Australia
CATEGORIES:Christmas Party,Fermenting,Gut Health,Penrith
ATTACH;FMTTYPE=image/png:https://emuwellness.com/wp-content/uploads/2019/11/Christmas-Party-2019-Kombucha.png
ORGANIZER;CN="EMU%20Wellness":MAILTO:melinda@emuwellness.com
END:VEVENT
END:VCALENDAR